BEGIN:VCALENDAR
VERSION:2.0
PRODID:icalendar-ruby
CALSCALE:GREGORIAN
METHOD:PUBLISH
BEGIN:VEVENT
DTSTAMP:20260424T112106Z
UID:5-409668@trydiscovery.org
DTSTART:20261101T160000Z
DTEND:20261101T170000Z
CLASS:PUBLIC
CREATED:20260423T211948
DESCRIPTION:Sunday Worship
LAST-MODIFIED:20260423T211948
LOCATION:
SUMMARY:Sunday Worship
URL;VALUE=URI:https://www.trydiscovery.org/events/sunday-worship/2026-11-01
END:VEVENT
END:VCALENDAR
