BEGIN:VCALENDAR
VERSION:2.0
PRODID:icalendar-ruby
CALSCALE:GREGORIAN
METHOD:PUBLISH
BEGIN:VEVENT
DTSTAMP:20260423T161304Z
UID:5-408617@trydiscovery.org
DTSTART:20260913T150000Z
DTEND:20260913T160000Z
CLASS:PUBLIC
CREATED:20260423T094053
DESCRIPTION:Sunday Worship
LAST-MODIFIED:20260423T094053
LOCATION:
SUMMARY:Sunday Worship
URL;VALUE=URI:https://www.trydiscovery.org/events/sunday-worship/2026-09-13
END:VEVENT
END:VCALENDAR
