BEGIN:VCALENDAR
VERSION:2.0
PRODID:icalendar-ruby
CALSCALE:GREGORIAN
METHOD:PUBLISH
BEGIN:VEVENT
DTSTAMP:20260422T233057Z
UID:5-407831@trydiscovery.org
DTSTART:20260823T150000Z
DTEND:20260823T160000Z
CLASS:PUBLIC
CREATED:20260422T182427
DESCRIPTION:Sunday Worship
LAST-MODIFIED:20260422T182427
LOCATION:
SUMMARY:Sunday Worship
URL;VALUE=URI:https://www.trydiscovery.org/events/sunday-worship/2026-08-23
END:VEVENT
END:VCALENDAR
