BEGIN:VCALENDAR
VERSION:2.0
PRODID:icalendar-ruby
CALSCALE:GREGORIAN
METHOD:PUBLISH
BEGIN:VEVENT
DTSTAMP:20260422T174508Z
UID:5-407308@trydiscovery.org
DTSTART:20260816T150000Z
DTEND:20260816T160000Z
CLASS:PUBLIC
CREATED:20260422T123657
DESCRIPTION:Sunday Worship
LAST-MODIFIED:20260422T123657
LOCATION:
SUMMARY:Sunday Worship
URL;VALUE=URI:https://www.trydiscovery.org/events/sunday-worship/2026-08-16
END:VEVENT
END:VCALENDAR
