BEGIN:VCALENDAR
VERSION:2.0
PRODID:icalendar-ruby
CALSCALE:GREGORIAN
METHOD:PUBLISH
BEGIN:VEVENT
DTSTAMP:20260422T120016Z
UID:5-406785@trydiscovery.org
DTSTART:20260809T150000Z
DTEND:20260809T160000Z
CLASS:PUBLIC
CREATED:20260422T064646
DESCRIPTION:Sunday Worship
LAST-MODIFIED:20260422T064646
LOCATION:
SUMMARY:Sunday Worship
URL;VALUE=URI:https://www.trydiscovery.org/events/sunday-worship/2026-08-09
END:VEVENT
END:VCALENDAR
